BEGIN:VCALENDAR
VERSION:2.0
PRODID:-//National Association of Dental Plans - ECPv6.15.20//NONSGML v1.0//EN
CALSCALE:GREGORIAN
METHOD:PUBLISH
X-WR-CALNAME:National Association of Dental Plans
X-ORIGINAL-URL:https://www.nadp.org
X-WR-CALDESC:Events for National Association of Dental Plans
REFRESH-INTERVAL;VALUE=DURATION:PT1H
X-Robots-Tag:noindex
X-PUBLISHED-TTL:PT1H
BEGIN:VTIMEZONE
TZID:America/Chicago
BEGIN:DAYLIGHT
TZOFFSETFROM:-0600
TZOFFSETTO:-0500
TZNAME:CDT
DTSTART:20230312T080000
END:DAYLIGHT
BEGIN:STANDARD
TZOFFSETFROM:-0500
TZOFFSETTO:-0600
TZNAME:CST
DTSTART:20231105T070000
END:STANDARD
BEGIN:DAYLIGHT
TZOFFSETFROM:-0600
TZOFFSETTO:-0500
TZNAME:CDT
DTSTART:20240310T080000
END:DAYLIGHT
BEGIN:STANDARD
TZOFFSETFROM:-0500
TZOFFSETTO:-0600
TZNAME:CST
DTSTART:20241103T070000
END:STANDARD
BEGIN:DAYLIGHT
TZOFFSETFROM:-0600
TZOFFSETTO:-0500
TZNAME:CDT
DTSTART:20250309T080000
END:DAYLIGHT
BEGIN:STANDARD
TZOFFSETFROM:-0500
TZOFFSETTO:-0600
TZNAME:CST
DTSTART:20251102T070000
END:STANDARD
END:VTIMEZONE
BEGIN:VEVENT
DTSTART;TZID=America/Chicago:20240320T130000
DTEND;TZID=America/Chicago:20240320T143000
DTSTAMP:20260425T164212
CREATED:20240301T184321Z
LAST-MODIFIED:20240301T185403Z
UID:10000019-1710939600-1710945000@www.nadp.org
SUMMARY:NADP Consortium Session #1: Nuts & Bolts of MLR Reporting
DESCRIPTION:NADP Consortium Session #1: Nuts & Bolts of MLR Reporting\nIn this kickoff session to the Consortium series\, Scott Jones and Joanne Fontana of Milliman will provide critical background and context on dental minimum loss ratios.  Following a quick conceptual refresher on loss ratios\, they will explore medical plan reactions to and experience with minimum loss ratio regulation under the Affordable Care Act.  They will then apply those lessons learned to the dental insurance market\, providing insights to consider as dental loss ratio regulations proliferate.  The session will wrap up with a review of the current landscape of dental loss ratio regulations and the recently promulgated NCOIL model law. \nSpeakers from Milliman: \n\nJoanne Fontana\, FSA\, MAAA\nMaureen Tressel Lewis\, MBA\nScott Jones\, FSA\, MAAA
URL:https://www.nadp.org/event/nadp-consortium-session-1-nuts-bolts-of-mlr-reporting/
LOCATION:Zoom
CATEGORIES:Industry Event
ATTACH;FMTTYPE=image/jpeg:https://www.nadp.org/wp-content/uploads/2022/12/hands-of-an-office-woman-typing-SBI-300739610-scaled.jpg
ORGANIZER;CN="NADP":MAILTO:jmay@nadp.org
END:VEVENT
BEGIN:VEVENT
DTSTART;TZID=America/Chicago:20240326T130000
DTEND;TZID=America/Chicago:20240326T140000
DTSTAMP:20260425T164212
CREATED:20240126T215809Z
LAST-MODIFIED:20240126T215854Z
UID:10000018-1711458000-1711461600@www.nadp.org
SUMMARY:[WEBINAR] The Anatomy of a Clean Claim
DESCRIPTION:[FREE WEBINAR] The Anatomy of a Clean Claim\n \nsponsored by Vyne Dental \nMarch 26\, 2024 \n1:00 PM – 2:00 PM (CT) \nJoin us for an insightful webinar\, “The Anatomy of a Clean Claim\,” presented by Nicole Smith\, SVP of Payer Solutions of Vyne Dental. In this engaging session\, we will delve into the intricacies of an intelligent clearinghouse platform with a focus on leveraging Artificial Intelligence (AI) and other technological advancements to unlock the potential an intelligent clearinghouse can have on real-time claims processing and real-time claim adjudication. [more]
URL:https://www.nadp.org/event/webinar-the-anatomy-of-a-clean-claim/
LOCATION:Zoom
CATEGORIES:Webinar
ATTACH;FMTTYPE=image/png:https://www.nadp.org/wp-content/uploads/2024/01/sponsored-by-Vyne-dental.png
ORGANIZER;CN="NADP":MAILTO:jmay@nadp.org
END:VEVENT
END:VCALENDAR