BEGIN:VCALENDAR
VERSION:2.0
PRODID:-//National Association of Dental Plans - ECPv6.15.20//NONSGML v1.0//EN
CALSCALE:GREGORIAN
METHOD:PUBLISH
X-ORIGINAL-URL:https://www.nadp.org
X-WR-CALDESC:Events for National Association of Dental Plans
REFRESH-INTERVAL;VALUE=DURATION:PT1H
X-Robots-Tag:noindex
X-PUBLISHED-TTL:PT1H
BEGIN:VTIMEZONE
TZID:America/New_York
BEGIN:DAYLIGHT
TZOFFSETFROM:-0500
TZOFFSETTO:-0400
TZNAME:EDT
DTSTART:20220313T070000
END:DAYLIGHT
BEGIN:STANDARD
TZOFFSETFROM:-0400
TZOFFSETTO:-0500
TZNAME:EST
DTSTART:20221106T060000
END:STANDARD
BEGIN:DAYLIGHT
TZOFFSETFROM:-0500
TZOFFSETTO:-0400
TZNAME:EDT
DTSTART:20230312T070000
END:DAYLIGHT
BEGIN:STANDARD
TZOFFSETFROM:-0400
TZOFFSETTO:-0500
TZNAME:EST
DTSTART:20231105T060000
END:STANDARD
BEGIN:DAYLIGHT
TZOFFSETFROM:-0500
TZOFFSETTO:-0400
TZNAME:EDT
DTSTART:20240310T070000
END:DAYLIGHT
BEGIN:STANDARD
TZOFFSETFROM:-0400
TZOFFSETTO:-0500
TZNAME:EST
DTSTART:20241103T060000
END:STANDARD
END:VTIMEZONE
BEGIN:VEVENT
DTSTART;VALUE=DATE:20230918
DTEND;VALUE=DATE:20230922
DTSTAMP:20260425T192752
CREATED:20211104T234457Z
LAST-MODIFIED:20221109T233910Z
UID:10000006-1694995200-1695340799@www.nadp.org
SUMMARY:2023 CONVERGE
DESCRIPTION:CONVERGE is the premier professional development opportunity in the dental benefits industry. It offers content in multiple tracks such as business operations\, government relations and professional relations. It also includes ample time to connect with your peers. Enhance your conference experience with the Discovery Zone\, a robust exhibit hall featuring a variety of interactive opportunities such as short presentations and product demonstrations.
URL:https://www.nadp.org/event/con23/
LOCATION:Hilton San Diego Bayfront\, 1 Park Boulevard\, San Diego\, CA\, 92101\, United States
CATEGORIES:Industry Event,NADP Conference
ATTACH;FMTTYPE=image/jpeg:https://www.nadp.org/wp-content/uploads/2022/11/CON23-save-the-date-graphic_video-Recovered.jpg
ORGANIZER;CN="NADP":MAILTO:jmay@nadp.org
END:VEVENT
END:VCALENDAR