BEGIN:VCALENDAR
VERSION:2.0
PRODID:-//National Association of Dental Plans - ECPv6.15.20//NONSGML v1.0//EN
CALSCALE:GREGORIAN
METHOD:PUBLISH
X-ORIGINAL-URL:https://www.nadp.org
X-WR-CALDESC:Events for National Association of Dental Plans
REFRESH-INTERVAL;VALUE=DURATION:PT1H
X-Robots-Tag:noindex
X-PUBLISHED-TTL:PT1H
BEGIN:VTIMEZONE
TZID:America/Chicago
BEGIN:DAYLIGHT
TZOFFSETFROM:-0600
TZOFFSETTO:-0500
TZNAME:CDT
DTSTART:20220313T080000
END:DAYLIGHT
BEGIN:STANDARD
TZOFFSETFROM:-0500
TZOFFSETTO:-0600
TZNAME:CST
DTSTART:20221106T070000
END:STANDARD
BEGIN:DAYLIGHT
TZOFFSETFROM:-0600
TZOFFSETTO:-0500
TZNAME:CDT
DTSTART:20230312T080000
END:DAYLIGHT
BEGIN:STANDARD
TZOFFSETFROM:-0500
TZOFFSETTO:-0600
TZNAME:CST
DTSTART:20231105T070000
END:STANDARD
BEGIN:DAYLIGHT
TZOFFSETFROM:-0600
TZOFFSETTO:-0500
TZNAME:CDT
DTSTART:20240310T080000
END:DAYLIGHT
BEGIN:STANDARD
TZOFFSETFROM:-0500
TZOFFSETTO:-0600
TZNAME:CST
DTSTART:20241103T070000
END:STANDARD
END:VTIMEZONE
BEGIN:VTIMEZONE
TZID:America/New_York
BEGIN:DAYLIGHT
TZOFFSETFROM:-0500
TZOFFSETTO:-0400
TZNAME:EDT
DTSTART:20220313T070000
END:DAYLIGHT
BEGIN:STANDARD
TZOFFSETFROM:-0400
TZOFFSETTO:-0500
TZNAME:EST
DTSTART:20221106T060000
END:STANDARD
BEGIN:DAYLIGHT
TZOFFSETFROM:-0500
TZOFFSETTO:-0400
TZNAME:EDT
DTSTART:20230312T070000
END:DAYLIGHT
BEGIN:STANDARD
TZOFFSETFROM:-0400
TZOFFSETTO:-0500
TZNAME:EST
DTSTART:20231105T060000
END:STANDARD
BEGIN:DAYLIGHT
TZOFFSETFROM:-0500
TZOFFSETTO:-0400
TZNAME:EDT
DTSTART:20240310T070000
END:DAYLIGHT
BEGIN:STANDARD
TZOFFSETFROM:-0400
TZOFFSETTO:-0500
TZNAME:EST
DTSTART:20241103T060000
END:STANDARD
END:VTIMEZONE
BEGIN:VEVENT
DTSTART;TZID=America/Chicago:20230413T130000
DTEND;TZID=America/Chicago:20230413T140000
DTSTAMP:20260425T234614
CREATED:20230320T162949Z
LAST-MODIFIED:20230320T162950Z
UID:10000011-1681390800-1681394400@www.nadp.org
SUMMARY:[Webinar] Strengthening the Payer-Provider Connection: Leveraging the Power of AI to Improve Oral Health
DESCRIPTION:Strengthening the Payer-Provider Connection: Leveraging the Power of AI to Improve Oral Health\n  \nWhen:  Thursday\, April 13\nTime: 1:00pm – 2:00pm (CT)\nPrice: Free! sponsored by Overjet\nAs artificial intelligence becomes increasingly apparent\, the dental industry recognizes the potential benefits of implementing AI to streamline their processes and improve the patient experience. AI is not only transforming the way providers and payers work together but has the potential to enhance the patient experience and improve outcomes significantly. Join us for a webinar where we’ll explore the powerful payer-provider connection enabled by AI and the many ways it is transforming oral health for members. You’ll gain valuable insights into how this innovative technology is reimagining manual processes for dental insurers\, improving the connection between payers and providers\, and ultimately enhancing the quality of care for patients. \n\n\nChristopher Balaban\, DMD\, MSc\, FACD\nVice President of Clinical Affairs\, Overjet\n\nDr. Christopher Balaban is the vice president of clinical affairs for Overjet\, one of the industry’s top leaders in dental artificial intelligence. Dr. Balaban has written numerous articles on artificial intelligence and its application to dentistry\, published in Compendium\, IDH\, IDT\, and JADA. Dr. Balaban is a leading contributor to the ADA’s seminal white paper on Augmented Intelligence\, where he leads the authorship of the Clinical Use of Dental AI section. He holds a master’s degree in biomedical science and graduated Summa Cum Laude from Boston University’s Goldman School of Dental Medicine\, where he had a faculty position in the department of general dentistry at the rank of a clinical instructor.
URL:https://www.nadp.org/event/webinar-strengthening-the-payer-provider-connection-leveraging-the-power-of-ai-to-improve-oral-health/
LOCATION:Zoom
CATEGORIES:Webinar
ATTACH;FMTTYPE=image/png:https://www.nadp.org/wp-content/uploads/2023/03/overjet-logo-2022-e1653061236385.png
ORGANIZER;CN="NADP":MAILTO:jmay@nadp.org
END:VEVENT
BEGIN:VEVENT
DTSTART;TZID=America/New_York:20230426T130000
DTEND;TZID=America/New_York:20230427T235900
DTSTAMP:20260425T234614
CREATED:20211104T234432Z
LAST-MODIFIED:20230313T164741Z
UID:10000005-1682514000-1682639940@www.nadp.org
SUMMARY:2023 Advocacy in Action
DESCRIPTION:This is a members-only event. Now is a critical time for the dental benefits industry to make its voice heard in Washington D.C. Our goal is to ensure that Congress keeps dental benefits in mind as they consider changes to health care and tax policy. This is what NADP’s annual Advocacy in Action events have accomplished over the past several years.
URL:https://www.nadp.org/event/advocacy-in-action/
LOCATION:Washington D.C.\, DC\, United States
CATEGORIES:Industry Event,NADP Conference
ATTACH;FMTTYPE=image/jpeg:https://www.nadp.org/wp-content/uploads/2021/11/AIA-23-postcard-graphic_v2_April-26-27.jpg
ORGANIZER;CN="NADP":MAILTO:jmay@nadp.org
END:VEVENT
BEGIN:VEVENT
DTSTART;TZID=America/New_York:20230427T080000
DTEND;TZID=America/New_York:20230428T133000
DTSTAMP:20260425T234614
CREATED:20230120T200018Z
LAST-MODIFIED:20230120T200315Z
UID:10000008-1682582400-1682688600@www.nadp.org
SUMMARY:2023 DQA Conference
DESCRIPTION:2023 DQA Conference – Moving Past Disruption to Improve Oral Healthcare\nThe Dental Quality Alliance (DQA) invites you to its 2023 Conference – Moving Past Disruption to Improve Oral Healthcare. This conference will be in person in Chicago at ADA Headquarters\, Thursday and Friday\, April 27-28\, starting at 8 am on Thursday with an evening networking reception and ending on Friday at 1:30 pm with a boxed lunch. The program will focus on moving past the disruption of the past few years and highlight innovative leadership and concrete strategies being deployed in the oral healthcare system. \nLearn about the various elements that comprise a quality improvement system – leadership\, staff training\, coding systems\, evidence-based dentistry\, medical-dental integration – and how they address value\, cost\, and quality in the delivery of oral healthcare and impact patient outcomes. \n12.0 ADA CERP credits will be awarded (pending approval). \nCourse Pricing \n$250 per person early bird pricing through January 31\, 2023\n$300 per person starting February 1\, 2023 \nView Agenda (PDF) \nCancellation/ Refund Policy \nA full refund is available on or before April 14\, 2023. Any cancellations after April 14\, 2023 will not receive a refund.
URL:https://www.nadp.org/event/2023-dqa-conference/
LOCATION:ADA Headquarters\, 211 East Chicago Avenue\, Chicago\, 60610-2678\, United States
CATEGORIES:Industry Event
ATTACH;FMTTYPE=image/png:https://www.nadp.org/wp-content/uploads/2023/01/13193_DQA_1110x700_Hero_2.png
ORGANIZER;CN="American Dental Association":MAILTO:colangeloe@ada.org
END:VEVENT
END:VCALENDAR