BEGIN:VCALENDAR
VERSION:2.0
PRODID:-//National Association of Dental Plans - ECPv6.15.20//NONSGML v1.0//EN
CALSCALE:GREGORIAN
METHOD:PUBLISH
X-WR-CALNAME:National Association of Dental Plans
X-ORIGINAL-URL:https://www.nadp.org
X-WR-CALDESC:Events for National Association of Dental Plans
REFRESH-INTERVAL;VALUE=DURATION:PT1H
X-Robots-Tag:noindex
X-PUBLISHED-TTL:PT1H
BEGIN:VTIMEZONE
TZID:America/New_York
BEGIN:DAYLIGHT
TZOFFSETFROM:-0500
TZOFFSETTO:-0400
TZNAME:EDT
DTSTART:20220313T070000
END:DAYLIGHT
BEGIN:STANDARD
TZOFFSETFROM:-0400
TZOFFSETTO:-0500
TZNAME:EST
DTSTART:20221106T060000
END:STANDARD
BEGIN:DAYLIGHT
TZOFFSETFROM:-0500
TZOFFSETTO:-0400
TZNAME:EDT
DTSTART:20230312T070000
END:DAYLIGHT
BEGIN:STANDARD
TZOFFSETFROM:-0400
TZOFFSETTO:-0500
TZNAME:EST
DTSTART:20231105T060000
END:STANDARD
BEGIN:DAYLIGHT
TZOFFSETFROM:-0500
TZOFFSETTO:-0400
TZNAME:EDT
DTSTART:20240310T070000
END:DAYLIGHT
BEGIN:STANDARD
TZOFFSETFROM:-0400
TZOFFSETTO:-0500
TZNAME:EST
DTSTART:20241103T060000
END:STANDARD
END:VTIMEZONE
BEGIN:VEVENT
DTSTART;VALUE=DATE:20230130
DTEND;VALUE=DATE:20230202
DTSTAMP:20260425T142633
CREATED:20211104T234337Z
LAST-MODIFIED:20221111T133048Z
UID:10000004-1675036800-1675295999@www.nadp.org
SUMMARY:2023 NADP Leadership Conference
DESCRIPTION:The annual NADP Leadership Conference is a members-only event. This conference provides opportunities to increase your leadership skills as you join with colleagues to provide direction for NADP programs and services while gaining insight and new perspectives on timely topics in the educational sessions. Leadership Conference brings together all of the NADP volunteer groups to share a vision of where the dental benefits industry and association are going over the coming year. Generally held in the winter\, Leadership Conferences are traditionally face-to-face meetings.
URL:https://www.nadp.org/event/2023leadership/
LOCATION:Dallas/Fort Worth Airport Marriott\, 8440 Freeport Pkwy\, Irving\, TX\, 75063\, United States
CATEGORIES:Industry Event,NADP Conference
ATTACH;FMTTYPE=image/png:https://www.nadp.org/wp-content/uploads/2021/11/Screen_Shot_2019-10-03_at_4_32_05_PM.png
ORGANIZER;CN="NADP":MAILTO:jmay@nadp.org
GEO:41.880588;-87.647386
X-APPLE-STRUCTURED-LOCATION;VALUE=URI;X-ADDRESS=Dallas/Fort Worth Airport Marriott 8440 Freeport Pkwy Irving TX 75063 United States;X-APPLE-RADIUS=500;X-TITLE=8440 Freeport Pkwy:geo:-87.647386,41.880588
END:VEVENT
END:VCALENDAR