BEGIN:VCALENDAR
VERSION:2.0
PRODID:-//National Association of Dental Plans - ECPv6.15.20//NONSGML v1.0//EN
CALSCALE:GREGORIAN
METHOD:PUBLISH
X-WR-CALNAME:National Association of Dental Plans
X-ORIGINAL-URL:https://www.nadp.org
X-WR-CALDESC:Events for National Association of Dental Plans
REFRESH-INTERVAL;VALUE=DURATION:PT1H
X-Robots-Tag:noindex
X-PUBLISHED-TTL:PT1H
BEGIN:VTIMEZONE
TZID:America/New_York
BEGIN:DAYLIGHT
TZOFFSETFROM:-0500
TZOFFSETTO:-0400
TZNAME:EDT
DTSTART:20250309T070000
END:DAYLIGHT
BEGIN:STANDARD
TZOFFSETFROM:-0400
TZOFFSETTO:-0500
TZNAME:EST
DTSTART:20251102T060000
END:STANDARD
BEGIN:DAYLIGHT
TZOFFSETFROM:-0500
TZOFFSETTO:-0400
TZNAME:EDT
DTSTART:20260308T070000
END:DAYLIGHT
BEGIN:STANDARD
TZOFFSETFROM:-0400
TZOFFSETTO:-0500
TZNAME:EST
DTSTART:20261101T060000
END:STANDARD
BEGIN:DAYLIGHT
TZOFFSETFROM:-0500
TZOFFSETTO:-0400
TZNAME:EDT
DTSTART:20270314T070000
END:DAYLIGHT
BEGIN:STANDARD
TZOFFSETFROM:-0400
TZOFFSETTO:-0500
TZNAME:EST
DTSTART:20271107T060000
END:STANDARD
END:VTIMEZONE
BEGIN:VEVENT
DTSTART;TZID=America/New_York:20261001T083000
DTEND;TZID=America/New_York:20261001T123000
DTSTAMP:20260425T075129
CREATED:20260305T230358Z
LAST-MODIFIED:20260318T170244Z
UID:10000058-1790843400-1790857800@www.nadp.org
SUMMARY:Consortium Session #6: CONVERGE In-Person Workshop
DESCRIPTION:Session 6: October 1\, 2026 \n8:30 – 12:00 PM (ET)\nCONVERGE In-Person Workshop\nLocation: JW Marriott Indianapolis \nCollaborating with industry experts to develop model documents and best practices that can be implemented across dental plans. \nRecommended Job Areas: All areas \n  \nRegister for CONVERGE\n  \n  \nTeresa Duncan\, MS \nPresident\, Odyssey Management \nFounder\, Dental Revenue Network \nTeresa is a speaker and writer with over 25 years of experience in healthcare. Her areas of expertise include revenue protection using proven accounts receivable and insurance methods; and helping doctors and managers establish solid management systems. She recently founded Dental Revenue Network to bring carriers\, billers and revenue cycle companies together. She is the author of Moving Your Patients to Yes: Easy Insurance Conversations and a regular contributing author to the ADA’s Annual CDT Companion Guide™. Teresa is a frequent contributor to multiple dental publications. She was a founding Trustee for the auxiliary learning focused DALE Foundation. Teresa is a member of several organizations including Dental Entrepreneurial Women and the National Association of Dental Plans. She has been named one of the Top 25 Women in Dentistry by Dental Products Report Magazine and is recognized annually as a Leader in Consulting by Dentistry Today. Her podcasts “Nobody Told Me That!” and “Chew On This!” provide regular coding and management updates. Teresa received her Master’s Degree in Healthcare Management from Marymount University. \n  \nMark Burkhard\, MBA \nNational Dental & Vision Practice Leader \nWillis Towers Watson \nMark Burkhard\, MBA\, is a highly accomplished professional who\, since July 2018\, serves as the National Dental & Vision Practice Leader at Willis Towers Watson. With an extensive 36-year career\, Mark specializes in providing expert consultation on group dental and vision plans\, supporting the firm’s efforts to advise its largest clients in the Health and Benefits line of business. In his current role\, Mark excels at evaluating and recommending dental and vision plans on a national scale\, emphasizing the value of quality benefits within an employer’s overall package to enhance employee well-being. Prior to joining Willis Towers Watson\, Mark held leadership positions at major insurers\, including CIGNA Dental\, Humana Dental\, MetLife\, and Aetna Dental & Vision\, where he led the dental and vision National Accounts growth team. As the leader of Dental and Vision vendor relations at Willis Towers Watson\, Mark maintains strong connections with the leadership teams of major national and regional carriers. He actively engages with industry organizations like the National Association of Dental Plans and the American Dental Association’s Health Policy Institute\, providing crucial insights into market trends. Mark’s expertise spans provider contracting\, plan evaluation and modernization\, clinical integration\, and financial analysis and negotiation. He earned his bachelor’s degree from St. Bonaventure University in New York and holds an MBA from Pepperdine University in Los Angeles. Currently residing in Valencia\, California\, with his wife and two children\, Mark is a distinguished consultant\, bringing unparalleled insight to the dynamic field of dental and vision benefits. \n  \nOPT-IN to the Consortium\n  \nIn-Person Session Sponsorships Are Available!\nAre you looking to elevate your brand and engage with key industry decision-makers? Sponsorship opportunities are now available! \nLEARN MORE ABOUT SPONSORSHIPS
URL:https://www.nadp.org/event/consortium-session-6-converge-in-person-workshop/
LOCATION:JW Marriott Indianapolis\, 10 S West Street\, Indianapolis\, Indiana\, 46204\, United States
ATTACH;FMTTYPE=image/jpeg:https://www.nadp.org/wp-content/uploads/2022/12/row-of-business-people-listening-to-presentation-at-seminar-with-focus-on-elegant-youn-SBI-300739587-scaled.jpg
ORGANIZER;CN="NADP":MAILTO:jmay@nadp.org
END:VEVENT
END:VCALENDAR